BEGIN:VCALENDAR
VERSION:2.0
PRODID:-//Pläsier - echt kölsch - echt authentisch! - ECPv6.5.0//NONSGML v1.0//EN
CALSCALE:GREGORIAN
METHOD:PUBLISH
X-WR-CALNAME:Pläsier - echt kölsch - echt authentisch!
X-ORIGINAL-URL:https://xn--plsier-cua.net
X-WR-CALDESC:Veranstaltungen für Pläsier - echt kölsch - echt authentisch!
REFRESH-INTERVAL;VALUE=DURATION:PT1H
X-Robots-Tag:noindex
X-PUBLISHED-TTL:PT1H
BEGIN:VTIMEZONE
TZID:Europe/Berlin
BEGIN:DAYLIGHT
TZOFFSETFROM:+0100
TZOFFSETTO:+0200
TZNAME:CEST
DTSTART:20240331T010000
END:DAYLIGHT
BEGIN:STANDARD
TZOFFSETFROM:+0200
TZOFFSETTO:+0100
TZNAME:CET
DTSTART:20241027T010000
END:STANDARD
END:VTIMEZONE
BEGIN:VEVENT
DTSTART;TZID=Europe/Berlin:20240907T130000
DTEND;TZID=Europe/Berlin:20240907T133000
DTSTAMP:20260420T220326
CREATED:20240831T063153Z
LAST-MODIFIED:20240831T065755Z
UID:1491-1725714000-1725715800@xn--plsier-cua.net
SUMMARY:1. FC Köln Saisoneröffnung mit Pläsier
DESCRIPTION:Beim Familientag des 1. FC Köln am 7. September spielen wir um 13:00 Uhr auf den Vorwiesen des RheinEnergieSTADION. Veranstaltungsadresse ist die Aachener Str. 999. Wir freuen uns auf Euren Besuch!
URL:https://xn--plsier-cua.net/event/fc-koeln-saisoneroeffnung-mit-plaesier/
LOCATION:Aachener Str. 999\, Köln\, Aachener Str. 999\, Köln
END:VEVENT
BEGIN:VEVENT
DTSTART;TZID=Europe/Berlin:20240907T193000
DTEND;TZID=Europe/Berlin:20240907T200000
DTSTAMP:20260420T220326
CREATED:20240830T063745Z
LAST-MODIFIED:20240831T065356Z
UID:1494-1725737400-1725739200@xn--plsier-cua.net
SUMMARY:Kölsch Ströppcher Sommerfest
DESCRIPTION:Ebenfalls am 7. September treten wir auf dem 8. Kölsch Stöppcher Sommerfest in Köln Heimersdorf auf. Los geht es hier um 19:30 Uhr.
URL:https://xn--plsier-cua.net/event/koelsch-stroeppcher-sommerfest/
LOCATION:Gustdorfer Weg\, 50767 Köln\, Gustdorfer Weg\, Köln\, 50767
END:VEVENT
BEGIN:VEVENT
DTSTART;TZID=Europe/Berlin:20240907T213000
DTEND;TZID=Europe/Berlin:20240907T220000
DTSTAMP:20260420T220326
CREATED:20240829T100902Z
LAST-MODIFIED:20240831T065419Z
UID:1476-1725744600-1725746400@xn--plsier-cua.net
SUMMARY:Sommerfest Rote Funken Eschweiler
DESCRIPTION:Wir spielen live auf dem Sommerfest der Roten Funken Eschweiler am Samstag\, den 7. September ab 21:30 Uhr im Restaurant Zur Altdeutschen. Wir freuen uns auf Euren Besuch!
URL:https://xn--plsier-cua.net/event/sommerfest-rote-funken-eschweiler/
LOCATION:Kochsgasse 8\, 52249 eschweiler\, Kochsgasse 8\, Eschweiler\, 52249
END:VEVENT
BEGIN:VEVENT
DTSTART;TZID=Europe/Berlin:20240912T120000
DTEND;TZID=Europe/Berlin:20240912T130000
DTSTAMP:20260420T220326
CREATED:20240826T064538Z
LAST-MODIFIED:20240831T065510Z
UID:1501-1726142400-1726146000@xn--plsier-cua.net
SUMMARY:Pläsier am Bierkönig
DESCRIPTION:Bei der „Kölschen Woche“ am Ballermann auf Mallorca darf natürlich Pläsier nicht fehlen! Wir spielen dort am 12. September um 12:00 Uhr.
URL:https://xn--plsier-cua.net/event/plaesier-am-bierkoenig/
LOCATION:Bierkönig\, Carrer del Pare Bartomeu Salva 6-8\, Bierkönig\, Palma de Mallorca\, Mallorca\, Spanien
END:VEVENT
BEGIN:VEVENT
DTSTART;TZID=Europe/Berlin:20240922T170000
DTEND;TZID=Europe/Berlin:20240922T173000
DTSTAMP:20260420T220326
CREATED:20240825T065026Z
LAST-MODIFIED:20240831T065533Z
UID:1505-1727024400-1727026200@xn--plsier-cua.net
SUMMARY:Weinfest Köln
DESCRIPTION:Das Weinfest in Rath/Heumar besuchen wir am 22.09.2024. Dort spielen wir um 17:00 Uhr. Wir freuen uns auf Euren Besuch!
URL:https://xn--plsier-cua.net/event/weinfest-koeln/
LOCATION:Kurt-Henn-Platz\, 51107 Köln\, Rösrather Straße 603\, Köln\, 51107
END:VEVENT
END:VCALENDAR